BEGIN:VCALENDAR
VERSION:2.0
PRODID:-//wp-events-plugin.com//7.2.3.1//EN
TZID:Europe/Berlin
X-WR-TIMEZONE:Europe/Berlin
BEGIN:VEVENT
UID:216@tanzkalender-koeln.de
DTSTART;TZID=Europe/Berlin:20250606T193000
DTEND;TZID=Europe/Berlin:20250607T010000
DTSTAMP:20260111T132956Z
URL:https://tanzkalender-koeln.de/?post_type=event&p=1226
SUMMARY:Volver Milonga
DESCRIPTION:\nWorkshop von Geraldina Rojas und Ezequiel Paludi ab 19:30 Uhr
  Flow auf der Tanzfläche\, Umarmung und Drehungen 25 € pro Person.\n\nD
 anach Milonga.\n\nVerbindliche Anmeldung unter: amigosdontango@gmail.com\n
 \nhttps://www.hoy-milonga.com/nordrhein-westfalen/de/milonga/399720/Volver
 \n\nhttps://www.facebook.com/groups/590129797999908/posts/2526199481059587
 /
ATTACH;FMTTYPE=image/jpeg:https://tanzkalender-koeln.de/wp-content/uploads
 /2025/05/Volver_Milongo_6Juni.jpg
CATEGORIES:Tango
LOCATION:Westareal Roter Planet\, Dürener Straße 435 \, Köln\, 50858\, D
 eutschland
X-APPLE-STRUCTURED-LOCATION;VALUE=URI;X-ADDRESS=Dürener Straße 435 \, Kö
 ln\, 50858\, Deutschland;X-APPLE-RADIUS=100;X-TITLE=Westareal Roter Planet
 :geo:0,0
END:VEVENT
BEGIN:VTIMEZONE
TZID:Europe/Berlin
X-LIC-LOCATION:Europe/Berlin
BEGIN:DAYLIGHT
DTSTART:20250330T030000
TZOFFSETFROM:+0100
TZOFFSETTO:+0200
TZNAME:CEST
END:DAYLIGHT
END:VTIMEZONE
END:VCALENDAR