BEGIN:VCALENDAR
VERSION:2.0
PRODID:-//wp-events-plugin.com//7.2.3.1//EN
TZID:Europe/Berlin
X-WR-TIMEZONE:Europe/Berlin
BEGIN:VEVENT
UID:1761@tanzkalender-koeln.de
DTSTART;TZID=Europe/Berlin:20260604T140000
DTEND;TZID=Europe/Berlin:20260605T010000
DTSTAMP:20260228T185827Z
URL:https://tanzkalender-koeln.de/events/urban-kizomba-day/
SUMMARY:Urban Kizomba Day
DESCRIPTION:14:00 Uhr: Musicality Workshop\n15:00 Uhr: Afrodance Fusion\n16
 :00 Uhr: Flying & Cross Step\n17:00 Uhr: Social Practice & Show Time\nAb 1
 8:30 Uhr Party mit DJs Lion\, Shasha & Chris\n\nmit Shows\n\nhttps://www.s
 uedstadt-leben-koeln.de/veranstaltungen/urban-kizomba-day-cologne/
ATTACH;FMTTYPE=image/jpeg:https://tanzkalender-koeln.de/wp-content/uploads
 /2025/04/lutherkirche.jpg
CATEGORIES:Urban Kiz
LOCATION:Lutherkirche\, Martin-Luther-Platz 2-4\, Köln\, 50677\, Deutschla
 nd
X-APPLE-STRUCTURED-LOCATION;VALUE=URI;X-ADDRESS=Martin-Luther-Platz 2-4\, K
 öln\, 50677\, Deutschland;X-APPLE-RADIUS=100;X-TITLE=Lutherkirche:geo:0,0
END:VEVENT
BEGIN:VTIMEZONE
TZID:Europe/Berlin
X-LIC-LOCATION:Europe/Berlin
BEGIN:DAYLIGHT
DTSTART:20260329T030000
TZOFFSETFROM:+0100
TZOFFSETTO:+0200
TZNAME:CEST
END:DAYLIGHT
END:VTIMEZONE
END:VCALENDAR