BEGIN:VCALENDAR
VERSION:2.0
PRODID:-//wp-events-plugin.com//7.2.3.1//EN
TZID:Europe/Berlin
X-WR-TIMEZONE:Europe/Berlin
BEGIN:VEVENT
UID:1954@tanzkalender-koeln.de
DTSTART;TZID=Europe/Berlin:20260913T150000
DTEND;TZID=Europe/Berlin:20260913T180000
DTSTAMP:20260407T114208Z
URL:https://tanzkalender-koeln.de/events/tanztee-fuer-jung-und-alt-2/
SUMMARY:Tanztee für Jung und Alt
DESCRIPTION:Zahlreiche tanzbegeisterte Besucherinnen und Besucher nutzen je
 weils die Gelegenheit im Wesselinger Rheinforum mit Blick auf den Rhein zu
 r Live-Musik mit Giovanni zu altbekannten und neuen Melodien das Tanzbein 
 zu schwingen.\n\nDie Bewegungsabläufe beim Tanzen sind die optimale Vorbe
 ugung um körperlich und geistig fit zu bleiben.\n\nEintritt: 8 € inklus
 ive 1 Stück Kuchen und 1 Kaffee \n\nhttps://www.wesseling.de/Veranstaltun
 gskalender/veranstaltungen/tanztee-im-rheinforum.php\n\nhttps://www.wessel
 ing.de/familie-soziales/tanztee.php
ATTACH;FMTTYPE=image/jpeg:https://tanzkalender-koeln.de/wp-content/uploads
 /2025/11/Rheinforum_Wesseling_Kran.jpg
CATEGORIES:Standard/Latein
LOCATION:Rheinforum Wesseling\, Kölner Str. 42\, 50389 Wesseling\, NRW\, D
 eutschland
X-APPLE-STRUCTURED-LOCATION;VALUE=URI;X-ADDRESS=Kölner Str. 42\, 50389 Wes
 seling\, NRW\, Deutschland;X-APPLE-RADIUS=100;X-TITLE=Rheinforum Wesseling
 :geo:0,0
END:VEVENT
BEGIN:VTIMEZONE
TZID:Europe/Berlin
X-LIC-LOCATION:Europe/Berlin
BEGIN:DAYLIGHT
DTSTART:20260329T030000
TZOFFSETFROM:+0100
TZOFFSETTO:+0200
TZNAME:CEST
END:DAYLIGHT
END:VTIMEZONE
END:VCALENDAR