BEGIN:VCALENDAR
VERSION:2.0
PRODID:-//wp-events-plugin.com//7.2.3.1//EN
TZID:Europe/Berlin
X-WR-TIMEZONE:Europe/Berlin
BEGIN:VEVENT
UID:1947@tanzkalender-koeln.de
DTSTART;TZID=Europe/Berlin:20260509T193000
DTEND;TZID=Europe/Berlin:20260509T223000
DTSTAMP:20260405T134345Z
URL:https://tanzkalender-koeln.de/events/tanzparty-7/
SUMMARY:Tanzparty
DESCRIPTION:Vorverkauf 5 € / Person\nAbendkasse: 10 € / Personen\npaarw
 eise Buchung\n\nhttps://www.tanzbreuer.de/tanzschule-bruehl/veranstaltunge
 n-bruehl/#freiestanzen
ATTACH;FMTTYPE=image/jpeg:https://tanzkalender-koeln.de/wp-content/uploads
 /2025/10/Tanzschule_Breuer_Logo.jpg
CATEGORIES:Standard/Latein
LOCATION:Tanzschule Breuer Brühl\, Kurfürstenstraße 31\, 50321 Brühl\, 
 Deutschland
X-APPLE-STRUCTURED-LOCATION;VALUE=URI;X-ADDRESS=Kurfürstenstraße 31\, 503
 21 Brühl\, Deutschland;X-APPLE-RADIUS=100;X-TITLE=Tanzschule Breuer Brüh
 l:geo:0,0
END:VEVENT
BEGIN:VTIMEZONE
TZID:Europe/Berlin
X-LIC-LOCATION:Europe/Berlin
BEGIN:DAYLIGHT
DTSTART:20260329T030000
TZOFFSETFROM:+0100
TZOFFSETTO:+0200
TZNAME:CEST
END:DAYLIGHT
END:VTIMEZONE
END:VCALENDAR