BEGIN:VCALENDAR
VERSION:2.0
PRODID:-//wp-events-plugin.com//7.2.3.1//EN
TZID:Europe/Berlin
X-WR-TIMEZONE:Europe/Berlin
BEGIN:VEVENT
UID:1067@tanzkalender-koeln.de
DTSTART;TZID=Europe/Berlin:20260531T150000
DTEND;TZID=Europe/Berlin:20260531T170000
DTSTAMP:20251105T214012Z
URL:https://tanzkalender-koeln.de/events/tanzkaffee-fuer-paartanz-in-koeln
 -porz-3/
SUMMARY:Tanzkaffee für Paartanz in Köln Porz
DESCRIPTION:Tradition trifft Moderne\n\nWir laden euch sehr herzlich ein zu
  unserem neuen Tanzkaffee!\n\nWer kennt sie nicht\, die guten alten Tanzka
 ffees\, die traditionsreichen und stets beliebten Veranstaltungen einer je
 den Tanzschule.\n\nBei Kaffee und Kuchen boten sie stets Anlass zum Tanz u
 nd zum geselligen Austausch netter und tanzbegeisterter Menschen.\n\nDie T
 anzschule Auftakt lässt genau diese Tradition nun wieder für euch aufleb
 en und das auch noch mit unserem eigenen kreativen Touch.\n\nJede Veransta
 ltung wird durch einen unserer professionellen Tanzlehrer moderiert und be
 gleitet\, so dass ihr im Rahmen des Events jederzeit die Möglichkeit habt
 \, eure offenen Fragen zu Figuren\, Technik\, Musik\, etc. an ihn richten 
 zu können. Somit ist neben einem schönen Erlebnis unter netten Menschen 
 auch euer ganz persönlicher Fortschritt gewiss.\n\nEintritt: 10 € p.P. 
 / Mitglieder 5€\n\nWichtig: Eine vorherige Anmeldung ist erforderlich\, 
 da das Tanzkaffee nur bei Erreichen einer bestimmten Teilnehmerzahl stattf
 indet.\n\nWir freuen uns auf euren Besuch und sind glücklich\, euch auf d
 iese Weise eine weitere innovative Gelegenheit zum Tanz präsentieren zu k
 önnen.\n\nTanzschule Auftakt – hier tanzt das Herz mit\n\n&nbsp\;\n\nht
 tps://www.meine-tanzschule-koeln.de\n\n&nbsp\;
ATTACH;FMTTYPE=image/jpeg:https://tanzkalender-koeln.de/wp-content/uploads
 /2025/06/Auftakt_meine_Tanzschule_in_Koeln_Eingang.jpg
CATEGORIES:Standard/Latein
LOCATION:Tanzschule Auftakt\, Hansestraße 97\, Köln\, 51149\, Deutschland
X-APPLE-STRUCTURED-LOCATION;VALUE=URI;X-ADDRESS=Hansestraße 97\, Köln\, 5
 1149\, Deutschland;X-APPLE-RADIUS=100;X-TITLE=Tanzschule Auftakt:geo:0,0
END:VEVENT
BEGIN:VTIMEZONE
TZID:Europe/Berlin
X-LIC-LOCATION:Europe/Berlin
BEGIN:DAYLIGHT
DTSTART:20260329T030000
TZOFFSETFROM:+0100
TZOFFSETTO:+0200
TZNAME:CEST
END:DAYLIGHT
END:VTIMEZONE
END:VCALENDAR