BEGIN:VCALENDAR
VERSION:2.0
PRODID:-//wp-events-plugin.com//7.2.3.1//EN
TZID:Europe/Berlin
X-WR-TIMEZONE:Europe/Berlin
BEGIN:VEVENT
UID:1978@tanzkalender-koeln.de
DTSTART;TZID=Europe/Berlin:20260531T150000
DTEND;TZID=Europe/Berlin:20260531T170000
DTSTAMP:20260409T220716Z
URL:https://tanzkalender-koeln.de/events/tanzcafe/
SUMMARY:Tanzcafé
DESCRIPTION:Eine vorherige Anmeldung ist erforderlich\, da das Tanzcafé nu
 r bei Erreichen einer bestimmten Teilnehmerzahl stattfindet.\n\nEintritt: 
 10 € p.P. / Mitglieder 5 € p.P.\n\nhttps://www.meine-tanzschule-koeln.
 de
ATTACH;FMTTYPE=image/jpeg:https://tanzkalender-koeln.de/wp-content/uploads
 /2025/06/Auftakt_meine_Tanzschule_in_Koeln_Eingang.jpg
CATEGORIES:Standard/Latein
LOCATION:Tanzschule Auftakt\, Hansestraße 97\, Köln\, 51149\, Deutschland
X-APPLE-STRUCTURED-LOCATION;VALUE=URI;X-ADDRESS=Hansestraße 97\, Köln\, 5
 1149\, Deutschland;X-APPLE-RADIUS=100;X-TITLE=Tanzschule Auftakt:geo:0,0
END:VEVENT
BEGIN:VTIMEZONE
TZID:Europe/Berlin
X-LIC-LOCATION:Europe/Berlin
BEGIN:DAYLIGHT
DTSTART:20260329T030000
TZOFFSETFROM:+0100
TZOFFSETTO:+0200
TZNAME:CEST
END:DAYLIGHT
END:VTIMEZONE
END:VCALENDAR