BEGIN:VCALENDAR
VERSION:2.0
PRODID:-//wp-events-plugin.com//7.2.3.1//EN
TZID:Europe/Berlin
X-WR-TIMEZONE:Europe/Berlin
BEGIN:VEVENT
UID:1071@tanzkalender-koeln.de
DTSTART;TZID=Europe/Berlin:20260515T193000
DTEND;TZID=Europe/Berlin:20260516T235900
DTSTAMP:20251105T221301Z
URL:https://tanzkalender-koeln.de/events/tanzabend-in-der-lutherkirche/
SUMMARY:Tanzabend in der Lutherkirche
DESCRIPTION:Erleben auch Sie diesen einmaligen Tanzsalon in der Lutherkirch
 e der Kölner Südstadt und verbringen einen wunderbaren Tanzabend. Diese 
 schöne Standard- und Latein-Tanzparty veranstaltet die Lutherkirche mit u
 ns nun seit über fünfzehn Jahren. Um halb acht findet ein intensiver Wor
 kshop für Tänzer und Tänzerinnen mit Tanzerfahrung statt. Ab halb neun 
 haben Sie dann die Möglichkeit alle Tänze zu üben und zu tanzen. Die la
 ngjährige Erfahrung von Kriszti Eisolt als DJ-Frau trägt natürlich zu d
 iesem gelungenen Abend bei. Sie legt einfach traumhaft schöne Tanzmusik a
 uf. Auch ihre professionelle Erfahrung in der Tanzturnier-Welt macht sie e
 inzigartig. Sie tanzte im Jahre 2000 auf dem Weltranglisten Platz sechs de
 r Latein-Professionals und ist zudem ungarische Landesmeisterin. Sie gewan
 n mit dem italienischen Tanzpartner Sandro Cavalini diverse Titel.\n\nUnd 
 wenn Sie gerne in nobler und trotzdem ungezwungener Atmosphäre tanzen mö
 chten\, besuchen Sie unseren Jahres-„Gala“-Ball. Da gestalten wir für
  unser tanzbegeistertes Publikum einen unvergesslichen Abend mit umfangrei
 chem kulinarischen Buffet. Auch hier legt DJane Kriszti Standard-\, Latein
 -\, Salsa-\, Tango- und Discofox- Musik auf\, sodass sie voll auf ihre Kos
 ten kommen.\n\n19.30 Uhr Cha-Cha-Cha Workshop\n20.30 Uhr Tanzparty\n\nEint
 ritt mit Workshop 20 € pro Pers.\nohne Workshop 15 € pro Pers.\n\nPark
 plätze:\nEntlang der Volksgartenstraße\n\nhttps://www.tanzlehrerin.de
ATTACH;FMTTYPE=image/jpeg:https://tanzkalender-koeln.de/wp-content/uploads
 /2025/04/lutherkirche.jpg
CATEGORIES:Standard/Latein
LOCATION:Lutherkirche\, Martin-Luther-Platz 2-4\, Köln\, 50677\, Deutschla
 nd
X-APPLE-STRUCTURED-LOCATION;VALUE=URI;X-ADDRESS=Martin-Luther-Platz 2-4\, K
 öln\, 50677\, Deutschland;X-APPLE-RADIUS=100;X-TITLE=Lutherkirche:geo:0,0
END:VEVENT
BEGIN:VTIMEZONE
TZID:Europe/Berlin
X-LIC-LOCATION:Europe/Berlin
BEGIN:DAYLIGHT
DTSTART:20260329T030000
TZOFFSETFROM:+0100
TZOFFSETTO:+0200
TZNAME:CEST
END:DAYLIGHT
END:VTIMEZONE
END:VCALENDAR