BEGIN:VCALENDAR
VERSION:2.0
PRODID:-//wp-events-plugin.com//7.2.3.1//EN
TZID:Europe/Berlin
X-WR-TIMEZONE:Europe/Berlin
BEGIN:VEVENT
UID:1394@tanzkalender-koeln.de
DTSTART;TZID=Europe/Berlin:20260430T203000
DTEND;TZID=Europe/Berlin:20260501T010000
DTSTAMP:20260104T195758Z
URL:https://tanzkalender-koeln.de/events/tanz-in-den-mai-4/
SUMMARY:Tanz in den Mai
DESCRIPTION:&nbsp\;\n\n\nTanz in den Mai\n\n&nbsp\;\n\nÜben/Trainieren Sie
  sowohl die Latein- und Standardtänze als auch Szenetänze auf einer gro
 ßen Tanzfläche zu abwechslungsreicher\, moderner\, klassischer und tanz
 barer Musik.\n\nUnser Tanzlehrer*innen-Team steht Ihnen mit Rat zur Seite.
 \nWir unterstützen Sie bei Ihren Schrittkombinationen\, Fragen zu Tanzfig
 uren oder lösen kleine Knoten in Füßen\, Beinen oder Haltung.\n\nWähre
 nd der TZ-TANZ-Übungszeit hat unsere Bar selbstverständlich für Sie ge
 öffnet.\n\n 	ausgewiesener Bereich für Tanz-Singles: hier kann sich gege
 nseitig aufgefordert werden\n 	Musikwünsche gerne erwünscht\n\nSchnupper
 n Sie Tanzzentrum-Atmosphäre und lernen Sie uns auf der Übungsfläche ke
 nnen!\n\nEintritt nur an der Abendkasse\nEintritt freitags: 10 €\nEintri
 tt sonntags: 8 €\nTanzzentrum-Mitglieder &amp\; ADTV-Mitglieder erhalten
  je nach Termin Vergünstigungen.\n\nhttps://www.tanzschule-koeln.de/
ATTACH;FMTTYPE=image/jpeg:https://tanzkalender-koeln.de/wp-content/uploads
 /2025/06/Tanzzentrum_Weishausstrasse_Tanzflaeche.jpg
LOCATION:Tanzzentrum Weißhausstraße\, Weißhausstr. 21\, Köln\, 50939 \,
  Deutschland
X-APPLE-STRUCTURED-LOCATION;VALUE=URI;X-ADDRESS=Weißhausstr. 21\, Köln\, 
 50939 \, Deutschland;X-APPLE-RADIUS=100;X-TITLE=Tanzzentrum Weißhausstra
 ße:geo:0,0
END:VEVENT
BEGIN:VTIMEZONE
TZID:Europe/Berlin
X-LIC-LOCATION:Europe/Berlin
BEGIN:DAYLIGHT
DTSTART:20260329T030000
TZOFFSETFROM:+0100
TZOFFSETTO:+0200
TZNAME:CEST
END:DAYLIGHT
END:VTIMEZONE
END:VCALENDAR