BEGIN:VCALENDAR
VERSION:2.0
PRODID:-//wp-events-plugin.com//7.2.3.1//EN
TZID:Europe/Berlin
X-WR-TIMEZONE:Europe/Berlin
BEGIN:VEVENT
UID:1973@tanzkalender-koeln.de
DTSTART;TZID=Europe/Berlin:20260516T200000
DTEND;TZID=Europe/Berlin:20260516T230000
DTSTAMP:20260409T212427Z
URL:https://tanzkalender-koeln.de/events/swing_and_lindy_night/
SUMMARY:Swing & Lindy Night
DESCRIPTION:»It don't mean a thing if it ain't got that swing!« Es darf i
 m Stile des Cotton Club getanzt und gefeiert werden. Hagen's Little Big Ho
 rns\, ein Oktett unter der künstlerischen Leitung des Trompeters und Arra
 ngeurs Alexander von Sommerfeld\, gibt sich die Ehre und spielt für alle 
 Lindy Hopper\, Barboa aficionados und Coctailschlürfer zum Tanz auf.\n\nV
 orverkauf: 18\,59 €\n\nEinlass 20:00 - 21:00 Uhr\n\nhttps://kinggeorg.de
 /en/termin/47785/
ATTACH;FMTTYPE=image/jpeg:https://tanzkalender-koeln.de/wp-content/uploads
 /2025/04/King_Georg_Jazz-Club-Bar.jpg
CATEGORIES:Lindy Hop
LOCATION:King Georg - Jazz Club & Bar\, Sudermanstr. 2\, Köln\, 50670\, De
 utschland
X-APPLE-STRUCTURED-LOCATION;VALUE=URI;X-ADDRESS=Sudermanstr. 2\, Köln\, 50
 670\, Deutschland;X-APPLE-RADIUS=100;X-TITLE=King Georg - Jazz Club & Bar:
 geo:0,0
END:VEVENT
BEGIN:VTIMEZONE
TZID:Europe/Berlin
X-LIC-LOCATION:Europe/Berlin
BEGIN:DAYLIGHT
DTSTART:20260329T030000
TZOFFSETFROM:+0100
TZOFFSETTO:+0200
TZNAME:CEST
END:DAYLIGHT
END:VTIMEZONE
END:VCALENDAR