BEGIN:VCALENDAR
VERSION:2.0
PRODID:-//wp-events-plugin.com//7.2.3.1//EN
TZID:Europe/Berlin
X-WR-TIMEZONE:Europe/Berlin
BEGIN:VEVENT
UID:1608@tanzkalender-koeln.de
DTSTART;TZID=Europe/Berlin:20260307T200000
DTEND;TZID=Europe/Berlin:20260308T010000
DTSTAMP:20260125T162225Z
URL:https://tanzkalender-koeln.de/events/pure-bachata-3/
SUMMARY:Pure Bachata
DESCRIPTION:10:00 - 22:00 Uhr: Workshops\nab 22:00 Uhr: Practice Night\n\nm
 it Femme Fusion Show\n\nDress code: pink\, purple\, glitter\n\nhttps://www
 .instagram.com/p/DT8EBogiMsg/
ATTACH;FMTTYPE=image/jpeg:https://tanzkalender-koeln.de/wp-content/uploads
 /2025/12/Pure_Bachata_Logo.jpg
CATEGORIES:Bachata Sensual
LOCATION:Tanzraum Zentrum\, Salierring 33\, Köln\, 50677\, Deutschland
X-APPLE-STRUCTURED-LOCATION;VALUE=URI;X-ADDRESS=Salierring 33\, Köln\, 506
 77\, Deutschland;X-APPLE-RADIUS=100;X-TITLE=Tanzraum Zentrum:geo:0,0
END:VEVENT
BEGIN:VTIMEZONE
TZID:Europe/Berlin
X-LIC-LOCATION:Europe/Berlin
BEGIN:STANDARD
DTSTART:20251026T020000
TZOFFSETFROM:+0200
TZOFFSETTO:+0100
TZNAME:CET
END:STANDARD
END:VTIMEZONE
END:VCALENDAR