BEGIN:VCALENDAR
VERSION:2.0
PRODID:-//wp-events-plugin.com//7.2.3.1//EN
TZID:Europe/Berlin
X-WR-TIMEZONE:Europe/Berlin
BEGIN:VEVENT
UID:94@tanzkalender-koeln.de
DTSTART;TZID=Europe/Berlin:20250502T180000
DTEND;TZID=Europe/Berlin:20250502T220000
DTSTAMP:20260111T130432Z
URL:https://tanzkalender-koeln.de/?post_type=event&p=858
SUMMARY:Mi Fiesta es Tu Fiesta
DESCRIPTION:Salsa\, Bachata y mas...
ATTACH;FMTTYPE=image/jpeg:https://tanzkalender-koeln.de/wp-content/uploads
 /2025/05/Mi_Fiesta_Aachener_Weiher_2Mai.jpg
CATEGORIES:Bachata,Salsa
LOCATION:Aachener Weiher\, Universitätsstraße 100\, Köln\, 50674\, Deuts
 chland
X-APPLE-STRUCTURED-LOCATION;VALUE=URI;X-ADDRESS=Universitätsstraße 100\, 
 Köln\, 50674\, Deutschland;X-APPLE-RADIUS=100;X-TITLE=Aachener Weiher:geo
 :0,0
END:VEVENT
BEGIN:VTIMEZONE
TZID:Europe/Berlin
X-LIC-LOCATION:Europe/Berlin
BEGIN:DAYLIGHT
DTSTART:20250330T030000
TZOFFSETFROM:+0100
TZOFFSETTO:+0200
TZNAME:CEST
END:DAYLIGHT
END:VTIMEZONE
END:VCALENDAR