BEGIN:VCALENDAR
VERSION:2.0
PRODID:-//wp-events-plugin.com//7.2.3.1//EN
TZID:Europe/Berlin
X-WR-TIMEZONE:Europe/Berlin
BEGIN:VEVENT
UID:586@tanzkalender-koeln.de
DTSTART;TZID=Europe/Berlin:20250810T180000
DTEND;TZID=Europe/Berlin:20250810T220000
DTSTAMP:20260209T222220Z
URL:https://tanzkalender-koeln.de/?post_type=event&p=2257
SUMMARY:Hoy quiero bailar contigo
DESCRIPTION:100 % Bachata sensual.\n\nAb 18:00 bis Open End\n\nHeute am mex
 ikanischen Restaurant "Taquería - Los Carnales" 100 Meter Rheinabwärts.\
 n\nHier könnt Ihr Euch die Videos der letzten Parties anschauen:\nhttps:/
 /instagram.com/hoy_quiero_bailar_contigo?r=nametag\nLG Euer „HOY QUIERO 
 BAILAR CONTIGO”Orga-Team. Henry
ATTACH;FMTTYPE=image/jpeg:https://tanzkalender-koeln.de/wp-content/uploads
 /2025/04/Hoy_quiero_bailar_contigo-1.jpg
CATEGORIES:Bachata Sensual
LOCATION:Rheinauhafen\, Katharina-Schauberg-Promenade\, Köln\, 50678\, Deu
 tschland
X-APPLE-STRUCTURED-LOCATION;VALUE=URI;X-ADDRESS=Katharina-Schauberg-Promena
 de\, Köln\, 50678\, Deutschland;X-APPLE-RADIUS=100;X-TITLE=Rheinauhafen:g
 eo:0,0
END:VEVENT
BEGIN:VTIMEZONE
TZID:Europe/Berlin
X-LIC-LOCATION:Europe/Berlin
BEGIN:DAYLIGHT
DTSTART:20250330T030000
TZOFFSETFROM:+0100
TZOFFSETTO:+0200
TZNAME:CEST
END:DAYLIGHT
END:VTIMEZONE
END:VCALENDAR