BEGIN:VCALENDAR
VERSION:2.0
PRODID:-//wp-events-plugin.com//7.2.3.1//EN
TZID:Europe/Berlin
X-WR-TIMEZONE:Europe/Berlin
BEGIN:VEVENT
UID:1922@tanzkalender-koeln.de
DTSTART;TZID=Europe/Berlin:20260524T173000
DTEND;TZID=Europe/Berlin:20260524T203000
DTSTAMP:20260417T215722Z
URL:https://tanzkalender-koeln.de/events/forro-kurse-und-freies-tanzen-29/
SUMMARY:Forró-Kurse und freies Tanzen
DESCRIPTION:https://forrodecolonia.com/
ATTACH;FMTTYPE=image/jpeg:https://tanzkalender-koeln.de/wp-content/uploads
 /2026/04/FdC-Courses_Cologne-April_Mai_Juni.jpg
CATEGORIES:Forró
LOCATION:Bürgerhaus Stollwerck\, Dreikönigenstr. 23\, Köln\, 50678\, Deu
 tschland
X-APPLE-STRUCTURED-LOCATION;VALUE=URI;X-ADDRESS=Dreikönigenstr. 23\, Köln
 \, 50678\, Deutschland;X-APPLE-RADIUS=100;X-TITLE=Bürgerhaus Stollwerck:g
 eo:0,0
END:VEVENT
BEGIN:VTIMEZONE
TZID:Europe/Berlin
X-LIC-LOCATION:Europe/Berlin
BEGIN:DAYLIGHT
DTSTART:20260329T030000
TZOFFSETFROM:+0100
TZOFFSETTO:+0200
TZNAME:CEST
END:DAYLIGHT
END:VTIMEZONE
END:VCALENDAR