BEGIN:VCALENDAR
VERSION:2.0
PRODID:-//wp-events-plugin.com//7.2.3.1//EN
TZID:Europe/Berlin
X-WR-TIMEZONE:Europe/Berlin
BEGIN:VEVENT
UID:1418@tanzkalender-koeln.de
DTSTART;TZID=Europe/Berlin:20260307T140000
DTEND;TZID=Europe/Berlin:20260307T230000
DTSTAMP:20260114T094311Z
URL:https://tanzkalender-koeln.de/events/fiesta-dominicana-march-edition/
SUMMARY:Fiesta Dominicana March Edition
DESCRIPTION:2 workshops by Evi & Richendel\nMusic by Bhavin & Soonruta\n70 
 % Bachata | 30 % Salsa\, Merengue & Konpa\nCocktails\, Animations and Domi
 nican vibes\n\nLimited spots available for the workshops so book your tick
 ets now and join us for the return of the Fiesta Dominicana Parties.\n\nDi
 e genauen Urzeiten werden noch bekannt gegeben.\n\nhttps://www.instagram.c
 om/p/DTahH13jCps/?igsh=MXNqeWhwczBueTYy
ATTACH;FMTTYPE=image/jpeg:https://tanzkalender-koeln.de/wp-content/uploads
 /2025/05/Quaeker_Nachbarschaftsheim-1.jpg
CATEGORIES:Bachata Dominicana
LOCATION:Quäker Nachbarschaftsheim Norbert-Burger-Bürgerzentrum\, Kreuzst
 raße 5\, Köln\, 50672\, Deutschland
X-APPLE-STRUCTURED-LOCATION;VALUE=URI;X-ADDRESS=Kreuzstraße 5\, Köln\, 50
 672\, Deutschland;X-APPLE-RADIUS=100;X-TITLE=Quäker Nachbarschaftsheim No
 rbert-Burger-Bürgerzentrum:geo:0,0
END:VEVENT
BEGIN:VTIMEZONE
TZID:Europe/Berlin
X-LIC-LOCATION:Europe/Berlin
BEGIN:STANDARD
DTSTART:20251026T020000
TZOFFSETFROM:+0200
TZOFFSETTO:+0100
TZNAME:CET
END:STANDARD
END:VTIMEZONE
END:VCALENDAR