BEGIN:VCALENDAR
VERSION:2.0
PRODID:-//wp-events-plugin.com//7.2.3.1//EN
TZID:Europe/Berlin
X-WR-TIMEZONE:Europe/Berlin
BEGIN:VEVENT
UID:2008@tanzkalender-koeln.de
DTSTART;TZID=Europe/Berlin:20260425T200000
DTEND;TZID=Europe/Berlin:20260425T230000
DTSTAMP:20260422T211610Z
URL:https://tanzkalender-koeln.de/events/federolfs-syncopators/
SUMMARY:Federolfs Syncopators
DESCRIPTION:Eine Hommage an die Weintraubs Syncopators\n\nDie 1924 gegründ
 eten „Weintraubs Syncopators“ waren bis 1933 mit Sicherheit die popul
 ärste Jazzband Deutschlands. Unter Leitung von Immo Federolf erwartet Sie
  mit einem neuen Programm eine Hommage an diese legendäre Band. Freuen Si
 e ich auf einiges an Hot-Solistik\, Instrumentenwechsel\, musikalische Sp
 äße und natürlich Musik aus der Diskographie der Weintraubs.\n\n- Felix
  Bork - Trompete\n- Lewin Losemann - Alt\, Sopran u. Bariton-Saxophon\, Cl
 arinette\n- Lars Schuster - Posaune\, Tenor-Saxophon\n- Linus David - Klav
 ier\, Trompete\n- Leon Richenhagen - Schlagzeug\n- Immo Federolf - Banjo\,
  Gitarre u. Refraingesang\n- mit freundlicher Unterstützung von Caruso 18
 77\n\nEs wird Foxtrott\, Tango\, Walzer etc. gespielt und getanzt. Tanzmus
 ik aus den 1920er-1930er Jahren.\n\nEintritt: 16\,50 € - 21\,80 €\n\nh
 ttps://rausgegangen.de/events/federolfs-syncopators-0/
ATTACH;FMTTYPE=image/jpeg:https://tanzkalender-koeln.de/wp-content/uploads
 /2025/04/La_Pista_rotes_Eingangsschild_bei_Nacht-scaled.jpg
CATEGORIES:Standard/Latein,Tango
LOCATION:La Pista\, Dasselstraße 75-77\, Köln\, 50674\, Deutschland
X-APPLE-STRUCTURED-LOCATION;VALUE=URI;X-ADDRESS=Dasselstraße 75-77\, Köln
 \, 50674\, Deutschland;X-APPLE-RADIUS=100;X-TITLE=La Pista:geo:0,0
END:VEVENT
BEGIN:VTIMEZONE
TZID:Europe/Berlin
X-LIC-LOCATION:Europe/Berlin
BEGIN:DAYLIGHT
DTSTART:20260329T030000
TZOFFSETFROM:+0100
TZOFFSETTO:+0200
TZNAME:CEST
END:DAYLIGHT
END:VTIMEZONE
END:VCALENDAR