BEGIN:VCALENDAR
VERSION:2.0
PRODID:-//wp-events-plugin.com//7.2.3.1//EN
TZID:Europe/Berlin
X-WR-TIMEZONE:Europe/Berlin
BEGIN:VEVENT
UID:1909@tanzkalender-koeln.de
DTSTART;TZID=Europe/Berlin:20260506T180000
DTEND;TZID=Europe/Berlin:20260506T220000
DTSTAMP:20260404T162027Z
URL:https://tanzkalender-koeln.de/events/discofox-freestyle-tanzparty-2/
SUMMARY:Discofox & FreeStyle Tanzparty
DESCRIPTION:Paartanzbegeisterte und Singles aufgepasst! Neu im Programm ist
  unsere Discofox & Freestyle Party mit Workshop. Der perfekte Abend für a
 lle\, die Spaß am Tanzen haben\, neue Leute kennenlernen\, sich gerne fre
 i bewegen und ihre Moves aufs nächste Level bringen möchten! \n\nIhr bra
 ucht keinen festen Tanzpartner: Wir wechseln durch\, sodass jeder mit jede
 m tanzen kann. Wer mag\, kann natürlich auch solo mittanzen – ganz wie 
 in der Disco!\n\nFreut euch auf einen lockeren Einsteiger-Workshop bei Kri
 szti und Christian Eisolt\, die 23 Jahre ihre Tanzschule in Köln mit Herz
 blut geführt haben. Ihre weltweit gedrehten Discofox Videos wurden über 
 3\,7 Millionen Mal auf YouTube angeschaut – Erfahrung und Leidenschaft g
 arantiert!\n\nLernt die Basics und coole Figuren des Discofox in entspannt
 er Atmosphäre – ideal für Anfänger und alle\, die ihre Technik auffri
 schen wollen.\nNach dem Workshop geht’s direkt auf die Tanzfläche mit d
 en besten internationalen Discofox-Hits – tanzt\, feiert und genießt di
 e Stimmung! Natürlich gibt es wie immer frische Getränke\, auch ohne Alk
 ohol.\nEin Abend voller Rhythmus\, Spaß und neuer Tanzfreunde! Wir freuen
  uns auf euch!\nLet’s dance the night away – Disco(fox) & FreeStyle!\n
 \n18:00 - 19:00 Uhr: Discofox-Workshop &amp\; Tanzparty 20 €/Pers.\n19:0
 0 - 22:00 Uhr: Discofox/FreeStyle Tanzparty 15 €/Pers.\n\nNur Abendkasse
 .\n\nhttps://www.suedstadt-leben-koeln.de/veranstaltungen/discofox-freesty
 le-party-2/
ATTACH;FMTTYPE=image/jpeg:https://tanzkalender-koeln.de/wp-content/uploads
 /2025/04/lutherkirche.jpg
CATEGORIES:Discofox
LOCATION:Lutherkirche\, Martin-Luther-Platz 2-4\, Köln\, 50677\, Deutschla
 nd
X-APPLE-STRUCTURED-LOCATION;VALUE=URI;X-ADDRESS=Martin-Luther-Platz 2-4\, K
 öln\, 50677\, Deutschland;X-APPLE-RADIUS=100;X-TITLE=Lutherkirche:geo:0,0
END:VEVENT
BEGIN:VTIMEZONE
TZID:Europe/Berlin
X-LIC-LOCATION:Europe/Berlin
BEGIN:DAYLIGHT
DTSTART:20260329T030000
TZOFFSETFROM:+0100
TZOFFSETTO:+0200
TZNAME:CEST
END:DAYLIGHT
END:VTIMEZONE
END:VCALENDAR